BEGIN:VCALENDAR
VERSION:2.0
PRODID:-//AfD Fraktion im bayerischen Landtag - ECPv5.7.1//NONSGML v1.0//EN
CALSCALE:GREGORIAN
METHOD:PUBLISH
X-WR-CALNAME:AfD Fraktion im bayerischen Landtag
X-ORIGINAL-URL:https://www.afd-landtag.bayern
X-WR-CALDESC:Veranstaltungen für AfD Fraktion im bayerischen Landtag
BEGIN:VTIMEZONE
TZID:Europe/Berlin
BEGIN:DAYLIGHT
TZOFFSETFROM:+0100
TZOFFSETTO:+0200
TZNAME:CEST
DTSTART:20260329T010000
END:DAYLIGHT
BEGIN:STANDARD
TZOFFSETFROM:+0200
TZOFFSETTO:+0100
TZNAME:CET
DTSTART:20261025T010000
END:STANDARD
END:VTIMEZONE
BEGIN:VEVENT
DTSTART;TZID=Europe/Berlin:20260321T110000
DTEND;TZID=Europe/Berlin:20260321T150000
DTSTAMP:20260421T192241
CREATED:20260317T141924Z
LAST-MODIFIED:20260317T141924Z
UID:20104-1774090800-1774105200@www.afd-landtag.bayern
SUMMARY:Unser Infotruck macht Halt in Rosenheim am Samstag\, den 21.03!
DESCRIPTION:🗓 Samstag\, den 21.03.26\n🕚 11:00 Uhr – 15:00 Uhr\n📍 Loretowiese; Kaiserstraße/Herbststraße\, 83022 Rosenheim \nInformieren Sie sich an unserem neuen Infotruck über die Arbeit der stärksten Oppositionskraft im Bayerischen Landtag. \nHören Sie unseren Vortrag gegen den Windkraftausbau in Bayern und lernen Sie uns kennen. \nWir freuen uns auf Sie!
URL:https://www.afd-landtag.bayern/event/unser-infotruck-macht-halt-in-rosenheim-am-samstag-den-21-03/
LOCATION:Loretowiese; Kaiserstraße/Herbststraße\, 83022 Rosenheim
CATEGORIES:Infotruck
ATTACH;FMTTYPE=image/png:https://www.afd-landtag.bayern/wp-content/uploads/2026/03/26-03-21-Auftakt-LKW.png
END:VEVENT
END:VCALENDAR