BEGIN:VCALENDAR
VERSION:2.0
PRODID:-//AfD Fraktion im bayerischen Landtag - ECPv5.7.1//NONSGML v1.0//EN
CALSCALE:GREGORIAN
METHOD:PUBLISH
X-WR-CALNAME:AfD Fraktion im bayerischen Landtag
X-ORIGINAL-URL:https://www.afd-landtag.bayern
X-WR-CALDESC:Veranstaltungen für AfD Fraktion im bayerischen Landtag
BEGIN:VTIMEZONE
TZID:Europe/Berlin
BEGIN:DAYLIGHT
TZOFFSETFROM:+0100
TZOFFSETTO:+0200
TZNAME:CEST
DTSTART:20260329T010000
END:DAYLIGHT
BEGIN:STANDARD
TZOFFSETFROM:+0200
TZOFFSETTO:+0100
TZNAME:CET
DTSTART:20261025T010000
END:STANDARD
END:VTIMEZONE
BEGIN:VEVENT
DTSTART;TZID=Europe/Berlin:20260427T190000
DTEND;TZID=Europe/Berlin:20260427T210000
DTSTAMP:20260419T151432
CREATED:20260416T151254Z
LAST-MODIFIED:20260416T151254Z
UID:20267-1777316400-1777323600@www.afd-landtag.bayern
SUMMARY:Das AfD-Steuer-Modell 25
DESCRIPTION:💬 Veranstaltungshinweis: Das AfD-Steuer-Modell 25 \n👉 Eine Podiumsdiskussion der AfD im Bayerischen Landtag \nDiskutieren Sie mit MdB Jörn König\, Univ.-Prof. Dr. Fritz Söllner und MdL Andreas Winhart über das neue Steuermodel “25” der AfD Fraktion im Deutschen Bundestag sowie dem Reformkonzept und dessen Auswirkungen auf die Finanzierung der Kommunen. \nWann: Montag\, 27.04.2026\nBeginn: 19:00 Uhr\nEinlass: 18:30 Uhr\nWo: Bayerischer Landtag\, Max-Planck-Straße 1\, 81675 München \nAnmeldung erforderlich:\nhttps://forms.cloud.microsoft/e/PkY9m3U2jp \nOhne Anmeldung kein Zugang in den Landtag möglich! \nWir freuen uns auf Ihre Teilnahme und über Ihre Fragen!
URL:https://www.afd-landtag.bayern/event/das-afd-steuer-modell-25/
LOCATION:Maximilianeum – Landtag\, Max-Planck-Straße 1\, München\, 81675\, Deutschland
CATEGORIES:Podiumsdiskussion
ATTACH;FMTTYPE=image/png:https://www.afd-landtag.bayern/wp-content/uploads/2026/04/steuermodell-25.png
END:VEVENT
END:VCALENDAR