BEGIN:VCALENDAR
VERSION:2.0
PRODID:-//AfD Fraktion im bayerischen Landtag - ECPv5.7.1//NONSGML v1.0//EN
CALSCALE:GREGORIAN
METHOD:PUBLISH
X-WR-CALNAME:AfD Fraktion im bayerischen Landtag
X-ORIGINAL-URL:https://www.afd-landtag.bayern
X-WR-CALDESC:Veranstaltungen für AfD Fraktion im bayerischen Landtag
BEGIN:VTIMEZONE
TZID:Europe/Berlin
BEGIN:DAYLIGHT
TZOFFSETFROM:+0100
TZOFFSETTO:+0200
TZNAME:CEST
DTSTART:20230326T010000
END:DAYLIGHT
BEGIN:STANDARD
TZOFFSETFROM:+0200
TZOFFSETTO:+0100
TZNAME:CET
DTSTART:20231029T010000
END:STANDARD
END:VTIMEZONE
BEGIN:VEVENT
DTSTART;TZID=Europe/Berlin:20231114T130000
DTEND;TZID=Europe/Berlin:20231114T150000
DTSTAMP:20260422T105912
CREATED:20231113T185625Z
LAST-MODIFIED:20231113T185625Z
UID:14516-1699966800-1699974000@www.afd-landtag.bayern
SUMMARY:Das AfD-Bürgermobil kommt nach Großostheim
DESCRIPTION:Informieren Sie sich über die Arbeit der AfD-Fraktion im bayerischen Landtag! Besuchen Sie unser Bürgermobil!
URL:https://www.afd-landtag.bayern/event/das-afd-buergermobil-kommt-nach-grossostheim-3/
LOCATION:Großostheim
CATEGORIES:mobiles Bürgerbüro
END:VEVENT
END:VCALENDAR